BEGIN:VCALENDAR
VERSION:2.0
PRODID:spatie/icalendar-generator
NAME:Webinar: eCarUp 2.0: Neue Features & API Praxisbeispiel mit arcade [in
 eltec reloaded 2024]
X-WR-CALNAME:Webinar: eCarUp 2.0: Neue Features & API Praxisbeispiel mit ar
 cade [ineltec reloaded 2024]
BEGIN:VTIMEZONE
TZID:Europe/Zurich
BEGIN:DAYLIGHT
DTSTART:20240331T020000
TZOFFSETFROM:+0100
TZOFFSETTO:+0200
END:DAYLIGHT
BEGIN:STANDARD
DTSTART:20241027T030000
TZOFFSETFROM:+0200
TZOFFSETTO:+0100
END:STANDARD
BEGIN:DAYLIGHT
DTSTART:20250330T020000
TZOFFSETFROM:+0100
TZOFFSETTO:+0200
END:DAYLIGHT
END:VTIMEZONE
BEGIN:VTIMEZONE
TZID:UTC
BEGIN:STANDARD
DTSTART:20250725T082323
TZOFFSETFROM:+0000
TZOFFSETTO:+0000
END:STANDARD
END:VTIMEZONE
BEGIN:VEVENT
UID:69e733fb1dcf4
DTSTAMP:20260421T082323Z
DTSTART;TZID=Europe/Zurich:20241003T140000
DTEND;TZID=Europe/Zurich:20241003T160000
SUMMARY:Webinar: eCarUp 2.0: Neue Features & API Praxisbeispiel mit arcade 
 [ineltec reloaded 2024]
DESCRIPTION:https://www.ineltec.ch/de/e/webinar-ecarup-2-0-neue-features-ap
 i-praxisbeispiel-mit-arcade.54228\n\nWir laden dich herzlich zu unserem ex
 klusiven Webinar ein\, in dem wir die neuesten Entwicklungen und Funktione
 n von eCarUp vorstellen. Erfahre alles über innovative Updates\, praktisc
 he Anwendungen und vieles mehr.
LOCATION:Webinar
END:VEVENT
END:VCALENDAR